Package: flowPloidy Version: 1.33.0 Command: /home/biocbuild/bbs-3.21-bioc/R/bin/R CMD build --keep-empty-dirs --no-resave-data flowPloidy StartedAt: 2025-02-03 17:25:46 -0500 (Mon, 03 Feb 2025) EndedAt: 2025-02-03 17:26:12 -0500 (Mon, 03 Feb 2025) EllapsedTime: 26.1 seconds RetCode: 0 Status: OK PackageFile: flowPloidy_1.33.0.tar.gz PackageFileSize: 2.332 MiB