Package: flowPloidy Version: 1.33.0 Command: /home/biocbuild/bbs-3.21-bioc/R/bin/R CMD check --install=check:flowPloidy.install-out.txt --library=/home/biocbuild/bbs-3.21-bioc/R/site-library --timings flowPloidy_1.33.0.tar.gz StartedAt: 2025-02-03 22:31:48 -0500 (Mon, 03 Feb 2025) EndedAt: 2025-02-03 22:33:11 -0500 (Mon, 03 Feb 2025) EllapsedTime: 83.2 seconds RetCode: 0 Status: OK CheckDir: flowPloidy.Rcheck Warnings: 0