Package: flowPloidy Version: 1.33.0 Command: /home/biocbuild/bbs-3.21-bioc/R/bin/R CMD INSTALL flowPloidy StartedAt: 2025-02-05 15:13:45 -0500 (Wed, 05 Feb 2025) EndedAt: 2025-02-05 15:13:55 -0500 (Wed, 05 Feb 2025) EllapsedTime: 9.6 seconds RetCode: 0 Status: OK