Package: flowPloidy Version: 1.33.0 Command: chmod a+r flowPloidy -R && E:\biocbuild\bbs-3.21-bioc\R\bin\R.exe CMD build --keep-empty-dirs --no-resave-data flowPloidy StartedAt: 2025-02-03 18:57:01 -0500 (Mon, 03 Feb 2025) EndedAt: 2025-02-03 18:58:11 -0500 (Mon, 03 Feb 2025) EllapsedTime: 69.3 seconds RetCode: 0 Status: OK PackageFile: flowPloidy_1.33.0.tar.gz PackageFileSize: 2.337 MiB