Package: flowPloidy Version: 1.33.0 Command: E:\biocbuild\bbs-3.21-bioc\R\bin\R.exe CMD INSTALL flowPloidy StartedAt: 2025-02-03 16:09:05 -0500 (Mon, 03 Feb 2025) EndedAt: 2025-02-03 16:09:49 -0500 (Mon, 03 Feb 2025) EllapsedTime: 43.8 seconds RetCode: 0 Status: OK