Package: flowPlots Version: 1.55.0 Command: /Library/Frameworks/R.framework/Resources/bin/R CMD check --install=check:flowPlots.install-out.txt --library=/Library/Frameworks/R.framework/Resources/library --no-vignettes --timings flowPlots_1.55.0.tar.gz StartedAt: 2025-02-03 19:52:58 -0500 (Mon, 03 Feb 2025) EndedAt: 2025-02-03 19:53:13 -0500 (Mon, 03 Feb 2025) EllapsedTime: 14.2 seconds RetCode: 0 Status: OK CheckDir: flowPlots.Rcheck Warnings: 0