Package: flowPlots Version: 1.55.0 Command: /home/biocbuild/R/R/bin/R CMD build --keep-empty-dirs --no-resave-data flowPlots StartedAt: 2025-01-28 22:57:11 -0000 (Tue, 28 Jan 2025) EndedAt: 2025-01-28 22:57:24 -0000 (Tue, 28 Jan 2025) EllapsedTime: 13.0 seconds RetCode: 0 Status: OK PackageFile: flowPlots_1.55.0.tar.gz PackageFileSize: 629.4 KiB