Package: flowPlots Version: 1.55.0 Command: /Library/Frameworks/R.framework/Resources/bin/R CMD build --keep-empty-dirs --no-resave-data flowPlots StartedAt: 2025-02-09 16:47:08 -0500 (Sun, 09 Feb 2025) EndedAt: 2025-02-09 16:47:26 -0500 (Sun, 09 Feb 2025) EllapsedTime: 17.1 seconds RetCode: 0 Status: OK PackageFile: flowPlots_1.55.0.tar.gz PackageFileSize: 635.4 KiB