Package: flowPlots Version: 1.55.0 Command: /home/biocbuild/bbs-3.21-bioc/R/bin/R CMD INSTALL flowPlots StartedAt: 2025-02-03 15:12:20 -0500 (Mon, 03 Feb 2025) EndedAt: 2025-02-03 15:12:35 -0500 (Mon, 03 Feb 2025) EllapsedTime: 14.2 seconds RetCode: 0 Status: OK