Package: flowPlots Version: 1.55.0 Command: rm -rf flowPlots.buildbin-libdir && mkdir flowPlots.buildbin-libdir && E:\biocbuild\bbs-3.21-bioc\R\bin\R.exe CMD INSTALL --build --library=flowPlots.buildbin-libdir flowPlots_1.55.0.tar.gz StartedAt: 2025-02-10 07:46:07 -0500 (Mon, 10 Feb 2025) EndedAt: 2025-02-10 07:46:48 -0500 (Mon, 10 Feb 2025) EllapsedTime: 41.5 seconds RetCode: 0 Status: OK PackageFile: flowPlots_1.55.0.zip PackageFileSize: 668.7 KiB