Package: flowPlots Version: 1.55.0 Command: chmod a+r flowPlots -R && E:\biocbuild\bbs-3.21-bioc\R\bin\R.exe CMD build --keep-empty-dirs --no-resave-data flowPlots StartedAt: 2025-02-03 18:57:23 -0500 (Mon, 03 Feb 2025) EndedAt: 2025-02-03 18:57:55 -0500 (Mon, 03 Feb 2025) EllapsedTime: 31.4 seconds RetCode: 0 Status: OK PackageFile: flowPlots_1.55.0.tar.gz PackageFileSize: 455.4 KiB