Package: flowPlots Version: 1.55.0 Command: E:\biocbuild\bbs-3.21-bioc\R\bin\R.exe CMD INSTALL flowPlots StartedAt: 2025-02-09 15:18:46 -0500 (Sun, 09 Feb 2025) EndedAt: 2025-02-09 15:19:19 -0500 (Sun, 09 Feb 2025) EllapsedTime: 33.1 seconds RetCode: 0 Status: OK