Package: flowStats Version: 4.19.0 Command: rm -rf flowStats.buildbin-libdir && mkdir flowStats.buildbin-libdir && /Users/biocbuild/BBS/utils/build-universal.sh flowStats_4.19.0.tar.gz /Library/Frameworks/R.framework/Resources/bin/R flowStats.buildbin-libdir StartedAt: 2025-02-09 22:14:43 -0500 (Sun, 09 Feb 2025) EndedAt: 2025-02-09 22:14:53 -0500 (Sun, 09 Feb 2025) EllapsedTime: 10.2 seconds RetCode: 0 Status: OK PackageFile: flowStats_4.19.0.tgz PackageFileSize: 11.69 MiB