Package: flowStats Version: 4.19.0 Command: /Library/Frameworks/R.framework/Resources/bin/R CMD INSTALL flowStats StartedAt: 2025-02-09 15:29:41 -0500 (Sun, 09 Feb 2025) EndedAt: 2025-02-09 15:29:50 -0500 (Sun, 09 Feb 2025) EllapsedTime: 8.6 seconds RetCode: 0 Status: OK