Package: flowStats Version: 4.19.0 Command: /home/biocbuild/R/R/bin/R CMD build --keep-empty-dirs --no-resave-data flowStats StartedAt: 2025-01-28 22:57:24 -0000 (Tue, 28 Jan 2025) EndedAt: 2025-01-28 22:59:48 -0000 (Tue, 28 Jan 2025) EllapsedTime: 144.1 seconds RetCode: 0 Status: OK PackageFile: flowStats_4.19.0.tar.gz PackageFileSize: 10.96 MiB