Package: flowStats Version: 4.19.0 Command: /Library/Frameworks/R.framework/Resources/bin/R CMD build --keep-empty-dirs --no-resave-data flowStats StartedAt: 2025-02-09 16:47:26 -0500 (Sun, 09 Feb 2025) EndedAt: 2025-02-09 16:49:26 -0500 (Sun, 09 Feb 2025) EllapsedTime: 120.2 seconds RetCode: 0 Status: OK PackageFile: flowStats_4.19.0.tar.gz PackageFileSize: 10.96 MiB