Package: flowStats Version: 4.19.0 Command: /Library/Frameworks/R.framework/Resources/bin/R CMD check --install=check:flowStats.install-out.txt --library=/Library/Frameworks/R.framework/Resources/library --no-vignettes --timings flowStats_4.19.0.tar.gz StartedAt: 2025-02-09 20:46:23 -0500 (Sun, 09 Feb 2025) EndedAt: 2025-02-09 20:49:58 -0500 (Sun, 09 Feb 2025) EllapsedTime: 214.3 seconds RetCode: 0 Status: WARNINGS CheckDir: flowStats.Rcheck Warnings: 4