Package: flowStats Version: 4.19.0 Command: /Library/Frameworks/R.framework/Resources/bin/R CMD INSTALL flowStats StartedAt: 2025-02-04 15:44:32 -0500 (Tue, 04 Feb 2025) EndedAt: 2025-02-04 15:45:04 -0500 (Tue, 04 Feb 2025) EllapsedTime: 31.4 seconds RetCode: 0 Status: OK