Package: flowStats Version: 4.19.0 Command: /home/biocbuild/bbs-3.21-bioc/R/bin/R CMD check --install=check:flowStats.install-out.txt --library=/home/biocbuild/bbs-3.21-bioc/R/site-library --timings flowStats_4.19.0.tar.gz StartedAt: 2025-02-04 22:23:36 -0500 (Tue, 04 Feb 2025) EndedAt: 2025-02-04 22:27:35 -0500 (Tue, 04 Feb 2025) EllapsedTime: 239.4 seconds RetCode: 0 Status: WARNINGS CheckDir: flowStats.Rcheck Warnings: 4