Package: flowStats Version: 4.19.0 Command: E:\biocbuild\bbs-3.21-bioc\R\bin\R.exe CMD check --no-multiarch --install=check:flowStats.install-out.txt --library=E:\biocbuild\bbs-3.21-bioc\R\library --no-vignettes --timings flowStats_4.19.0.tar.gz StartedAt: 2025-02-05 01:39:48 -0500 (Wed, 05 Feb 2025) EndedAt: 2025-02-05 01:43:22 -0500 (Wed, 05 Feb 2025) EllapsedTime: 214.2 seconds RetCode: 0 Status: WARNINGS CheckDir: flowStats.Rcheck Warnings: 4