Package: flowTrans Version: 1.59.0 Command: /Library/Frameworks/R.framework/Resources/bin/R CMD INSTALL flowTrans StartedAt: 2025-02-04 15:05:00 -0500 (Tue, 04 Feb 2025) EndedAt: 2025-02-04 15:05:05 -0500 (Tue, 04 Feb 2025) EllapsedTime: 4.3 seconds RetCode: 0 Status: OK