Package: flowTrans Version: 1.59.0 Command: /Library/Frameworks/R.framework/Resources/bin/R CMD build --keep-empty-dirs --no-resave-data flowTrans StartedAt: 2025-02-04 16:44:01 -0500 (Tue, 04 Feb 2025) EndedAt: 2025-02-04 16:44:29 -0500 (Tue, 04 Feb 2025) EllapsedTime: 28.7 seconds RetCode: 0 Status: OK PackageFile: flowTrans_1.59.0.tar.gz PackageFileSize: 480.1 KiB