Package: flowTrans Version: 1.59.0 Command: /Library/Frameworks/R.framework/Resources/bin/R CMD INSTALL flowTrans StartedAt: 2025-02-04 15:16:54 -0500 (Tue, 04 Feb 2025) EndedAt: 2025-02-04 15:17:05 -0500 (Tue, 04 Feb 2025) EllapsedTime: 11.5 seconds RetCode: 0 Status: OK