Package: flowTrans Version: 1.59.0 Command: /home/biocbuild/bbs-3.21-bioc/R/bin/R CMD INSTALL flowTrans StartedAt: 2025-02-09 15:16:21 -0500 (Sun, 09 Feb 2025) EndedAt: 2025-02-09 15:16:29 -0500 (Sun, 09 Feb 2025) EllapsedTime: 7.7 seconds RetCode: 0 Status: OK