Package: flowTrans Version: 1.59.0 Command: rm -rf flowTrans.buildbin-libdir && mkdir flowTrans.buildbin-libdir && E:\biocbuild\bbs-3.21-bioc\R\bin\R.exe CMD INSTALL --build --library=flowTrans.buildbin-libdir flowTrans_1.59.0.tar.gz StartedAt: 2025-02-10 07:46:19 -0500 (Mon, 10 Feb 2025) EndedAt: 2025-02-10 07:46:37 -0500 (Mon, 10 Feb 2025) EllapsedTime: 17.9 seconds RetCode: 0 Status: OK PackageFile: flowTrans_1.59.0.zip PackageFileSize: 418.7 KiB