Package: flowTrans Version: 1.59.0 Command: E:\biocbuild\bbs-3.21-bioc\R\bin\R.exe CMD check --no-multiarch --install=check:flowTrans.install-out.txt --library=E:\biocbuild\bbs-3.21-bioc\R\library --no-vignettes --timings flowTrans_1.59.0.tar.gz StartedAt: 2025-02-10 01:11:49 -0500 (Mon, 10 Feb 2025) EndedAt: 2025-02-10 01:13:03 -0500 (Mon, 10 Feb 2025) EllapsedTime: 73.8 seconds RetCode: 0 Status: OK CheckDir: flowTrans.Rcheck Warnings: 0