Package: flowTrans Version: 1.59.0 Command: E:\biocbuild\bbs-3.21-bioc\R\bin\R.exe CMD INSTALL flowTrans StartedAt: 2025-02-12 15:45:17 -0500 (Wed, 12 Feb 2025) EndedAt: 2025-02-12 15:45:32 -0500 (Wed, 12 Feb 2025) EllapsedTime: 14.8 seconds RetCode: 0 Status: OK