Package: flowVS Version: 1.39.0 Command: rm -rf flowVS.buildbin-libdir && mkdir flowVS.buildbin-libdir && /Users/biocbuild/BBS/utils/build-universal.sh flowVS_1.39.0.tar.gz /Library/Frameworks/R.framework/Resources/bin/R flowVS.buildbin-libdir StartedAt: 2025-02-09 22:14:47 -0500 (Sun, 09 Feb 2025) EndedAt: 2025-02-09 22:14:54 -0500 (Sun, 09 Feb 2025) EllapsedTime: 7.2 seconds RetCode: 0 Status: OK PackageFile: flowVS_1.39.0.tgz PackageFileSize: 3.587 MiB