Package: flowVS Version: 1.39.0 Command: /Library/Frameworks/R.framework/Resources/bin/R CMD build --keep-empty-dirs --no-resave-data flowVS StartedAt: 2025-02-03 16:58:12 -0500 (Mon, 03 Feb 2025) EndedAt: 2025-02-03 16:59:05 -0500 (Mon, 03 Feb 2025) EllapsedTime: 52.6 seconds RetCode: 0 Status: OK PackageFile: flowVS_1.39.0.tar.gz PackageFileSize: 3.699 MiB