Package: flowVS Version: 1.39.0 Command: /Library/Frameworks/R.framework/Resources/bin/R CMD INSTALL flowVS StartedAt: 2025-02-09 15:29:50 -0500 (Sun, 09 Feb 2025) EndedAt: 2025-02-09 15:29:55 -0500 (Sun, 09 Feb 2025) EllapsedTime: 5.4 seconds RetCode: 0 Status: OK