Package: flowVS Version: 1.39.0 Command: chmod a+r flowVS -R && E:\biocbuild\bbs-3.21-bioc\R\bin\R.exe CMD build --keep-empty-dirs --no-resave-data flowVS StartedAt: 2025-02-04 18:48:31 -0500 (Tue, 04 Feb 2025) EndedAt: 2025-02-04 18:52:42 -0500 (Tue, 04 Feb 2025) EllapsedTime: 251.1 seconds RetCode: 0 Status: OK PackageFile: flowVS_1.39.0.tar.gz PackageFileSize: 3.695 MiB