Package: flowVS Version: 1.39.0 Command: E:\biocbuild\bbs-3.21-bioc\R\bin\R.exe CMD check --no-multiarch --install=check:flowVS.install-out.txt --library=E:\biocbuild\bbs-3.21-bioc\R\library --no-vignettes --timings flowVS_1.39.0.tar.gz StartedAt: 2025-02-05 01:40:17 -0500 (Wed, 05 Feb 2025) EndedAt: 2025-02-05 01:42:36 -0500 (Wed, 05 Feb 2025) EllapsedTime: 139.1 seconds RetCode: 0 Status: OK CheckDir: flowVS.Rcheck Warnings: 0