Package: flowVS Version: 1.39.0 Command: E:\biocbuild\bbs-3.21-bioc\R\bin\R.exe CMD INSTALL flowVS StartedAt: 2025-02-09 17:00:39 -0500 (Sun, 09 Feb 2025) EndedAt: 2025-02-09 17:00:56 -0500 (Sun, 09 Feb 2025) EllapsedTime: 16.2 seconds RetCode: 0 Status: OK