Package: flowWorkspace Version: 4.19.0 Command: rm -rf flowWorkspace.buildbin-libdir && mkdir flowWorkspace.buildbin-libdir && /Users/biocbuild/BBS/utils/build-universal.sh flowWorkspace_4.19.0.tar.gz /Library/Frameworks/R.framework/Resources/bin/R flowWorkspace.buildbin-libdir StartedAt: 2025-02-03 22:50:39 -0500 (Mon, 03 Feb 2025) EndedAt: 2025-02-03 22:51:18 -0500 (Mon, 03 Feb 2025) EllapsedTime: 38.8 seconds RetCode: 0 Status: OK PackageFile: flowWorkspace_4.19.0.tgz PackageFileSize: 5.854 MiB