Package: flowWorkspace Version: 4.19.0 Command: /Library/Frameworks/R.framework/Resources/bin/R CMD build --keep-empty-dirs --no-resave-data flowWorkspace StartedAt: 2025-02-09 16:21:27 -0500 (Sun, 09 Feb 2025) EndedAt: 2025-02-09 16:22:15 -0500 (Sun, 09 Feb 2025) EllapsedTime: 47.5 seconds RetCode: 0 Status: OK PackageFile: flowWorkspace_4.19.0.tar.gz PackageFileSize: 5.705 MiB