Package: flowWorkspace Version: 4.19.0 Command: /home/biocbuild/R/R/bin/R CMD check --install=check:flowWorkspace.install-out.txt --library=/home/biocbuild/R/R/site-library --no-vignettes --timings flowWorkspace_4.19.0.tar.gz StartedAt: 2025-01-28 10:42:17 -0000 (Tue, 28 Jan 2025) EndedAt: 2025-01-28 10:46:11 -0000 (Tue, 28 Jan 2025) EllapsedTime: 234.3 seconds RetCode: 0 Status: WARNINGS CheckDir: flowWorkspace.Rcheck Warnings: 5