Package: flowWorkspace Version: 4.19.0 Command: /home/biocbuild/R/R/bin/R CMD INSTALL flowWorkspace StartedAt: 2025-01-29 19:42:36 -0000 (Wed, 29 Jan 2025) EndedAt: 2025-01-29 19:46:02 -0000 (Wed, 29 Jan 2025) EllapsedTime: 206.5 seconds RetCode: 0 Status: OK