Package: flowWorkspace Version: 4.19.0 Command: rm -rf flowWorkspace.buildbin-libdir && mkdir flowWorkspace.buildbin-libdir && /Users/biocbuild/BBS/utils/build-universal.sh flowWorkspace_4.19.0.tar.gz /Library/Frameworks/R.framework/Resources/bin/R flowWorkspace.buildbin-libdir StartedAt: 2025-02-10 00:54:01 -0500 (Mon, 10 Feb 2025) EndedAt: 2025-02-10 00:56:34 -0500 (Mon, 10 Feb 2025) EllapsedTime: 152.7 seconds RetCode: 0 Status: OK PackageFile: flowWorkspace_4.19.0.tgz PackageFileSize: 6.263 MiB