Package: flowWorkspace Version: 4.19.0 Command: /Library/Frameworks/R.framework/Resources/bin/R CMD INSTALL flowWorkspace StartedAt: 2025-02-09 15:13:12 -0500 (Sun, 09 Feb 2025) EndedAt: 2025-02-09 15:15:31 -0500 (Sun, 09 Feb 2025) EllapsedTime: 139.3 seconds RetCode: 0 Status: OK