Package: flowWorkspace Version: 4.19.0 Command: /home/biocbuild/bbs-3.21-bioc/R/bin/R CMD build --keep-empty-dirs --no-resave-data flowWorkspace StartedAt: 2025-02-09 17:17:17 -0500 (Sun, 09 Feb 2025) EndedAt: 2025-02-09 17:20:02 -0500 (Sun, 09 Feb 2025) EllapsedTime: 164.2 seconds RetCode: 0 Status: OK PackageFile: flowWorkspace_4.19.0.tar.gz PackageFileSize: 5.081 MiB