Package: flowWorkspace Version: 4.19.0 Command: /home/biocbuild/bbs-3.21-bioc/R/bin/R CMD INSTALL flowWorkspace StartedAt: 2025-02-09 15:16:15 -0500 (Sun, 09 Feb 2025) EndedAt: 2025-02-09 15:18:28 -0500 (Sun, 09 Feb 2025) EllapsedTime: 132.6 seconds RetCode: 0 Status: OK