Package: flowWorkspace Version: 4.19.0 Command: rm -rf flowWorkspace.buildbin-libdir && mkdir flowWorkspace.buildbin-libdir && E:\biocbuild\bbs-3.21-bioc\R\bin\R.exe CMD INSTALL --build --library=flowWorkspace.buildbin-libdir flowWorkspace_4.19.0.tar.gz StartedAt: 2025-01-24 07:30:08 -0500 (Fri, 24 Jan 2025) EndedAt: 2025-01-24 07:34:13 -0500 (Fri, 24 Jan 2025) EllapsedTime: 244.9 seconds RetCode: 0 Status: OK PackageFile: flowWorkspace_4.19.0.zip PackageFileSize: 5.226 MiB