Package: flowWorkspace Version: 4.19.0 Command: chmod a+r flowWorkspace -R && E:\biocbuild\bbs-3.21-bioc\R\bin\R.exe CMD build --keep-empty-dirs --no-resave-data flowWorkspace StartedAt: 2025-02-05 18:50:52 -0500 (Wed, 05 Feb 2025) EndedAt: 2025-02-05 18:54:30 -0500 (Wed, 05 Feb 2025) EllapsedTime: 217.7 seconds RetCode: 1 Status: ERROR PackageFile: None PackageFileSize: NA