Package: flowWorkspace Version: 4.19.0 Command: E:\biocbuild\bbs-3.21-bioc\R\bin\R.exe CMD INSTALL flowWorkspace StartedAt: 2025-02-03 16:05:12 -0500 (Mon, 03 Feb 2025) EndedAt: 2025-02-03 16:09:59 -0500 (Mon, 03 Feb 2025) EllapsedTime: 287.7 seconds RetCode: 1 Status: ERROR