Package: flowcatchR Version: 1.41.2 Maintainer: Federico Marini MaintainerEmail: marinif at uni-mainz.de git_url: https://git.bioconductor.org/packages/flowcatchR git_branch: devel git_last_commit: d498f26 git_last_commit_date: 2024-12-20 05:42:13 -0500 (Fri, 20 Dec 2024)