Package: flowcatchR Version: 1.41.2 Command: /home/biocbuild/R/R/bin/R CMD build --keep-empty-dirs --no-resave-data flowcatchR StartedAt: 2025-01-28 22:54:58 -0000 (Tue, 28 Jan 2025) EndedAt: 2025-01-28 22:55:53 -0000 (Tue, 28 Jan 2025) EllapsedTime: 55.0 seconds RetCode: 0 Status: OK PackageFile: flowcatchR_1.41.2.tar.gz PackageFileSize: 6.056 MiB