Package: flowcatchR Version: 1.41.2 Command: /home/biocbuild/R/R/bin/R CMD INSTALL flowcatchR StartedAt: 2025-01-29 20:07:51 -0000 (Wed, 29 Jan 2025) EndedAt: 2025-01-29 20:08:04 -0000 (Wed, 29 Jan 2025) EllapsedTime: 12.8 seconds RetCode: 0 Status: OK