Package: flowcatchR Version: 1.41.2 Command: /Library/Frameworks/R.framework/Resources/bin/R CMD INSTALL flowcatchR StartedAt: 2025-02-09 15:26:16 -0500 (Sun, 09 Feb 2025) EndedAt: 2025-02-09 15:26:30 -0500 (Sun, 09 Feb 2025) EllapsedTime: 13.9 seconds RetCode: 0 Status: OK