Package: flowcatchR Version: 1.41.2 Command: /home/biocbuild/bbs-3.21-bioc/R/bin/R CMD check --install=check:flowcatchR.install-out.txt --library=/home/biocbuild/bbs-3.21-bioc/R/site-library --timings flowcatchR_1.41.2.tar.gz StartedAt: 2025-02-09 22:21:09 -0500 (Sun, 09 Feb 2025) EndedAt: 2025-02-09 22:22:31 -0500 (Sun, 09 Feb 2025) EllapsedTime: 82.1 seconds RetCode: 0 Status: OK CheckDir: flowcatchR.Rcheck Warnings: 0