Package: flowcatchR Version: 1.41.2 Command: chmod a+r flowcatchR -R && E:\biocbuild\bbs-3.21-bioc\R\bin\R.exe CMD build --keep-empty-dirs --no-resave-data flowcatchR StartedAt: 2025-02-09 18:43:51 -0500 (Sun, 09 Feb 2025) EndedAt: 2025-02-09 18:45:40 -0500 (Sun, 09 Feb 2025) EllapsedTime: 109.6 seconds RetCode: 0 Status: OK PackageFile: flowcatchR_1.41.2.tar.gz PackageFileSize: 6.76 MiB